BEGIN:VCALENDAR
VERSION:2.0
PRODID:-//http://wcb.net.nz//NONSGML kigkonsult.se iCalcreator 2.18//
METHOD:PUBLISH
X-WR-CALNAME:JCal Pro Calendar
X-WR-CALDESC:Your online events calendar
X-WR-TIMEZONE:Pacific/Auckland
BEGIN:VEVENT
UID:20120805T100000UTC-4dcb3c@http://www.wcb.net.nz/
DTSTAMP:20191223T093941Z
DESCRIPTION:Peter Millichamp speaking\, 'Loved and Freed to Serve'<br />Com
 munion will be served.
DTSTART:20120805T100000Z
DTEND:20120805T120000Z
SUMMARY:Sunday Family Worship Service
URL:http://wcb.net.nz/events/diary/16-general/41-sunday-family-worship-serv
 ice
END:VEVENT
END:VCALENDAR
