BEGIN:VCALENDAR
VERSION:2.0
PRODID:-//http://wcb.net.nz//NONSGML kigkonsult.se iCalcreator 2.18//
METHOD:PUBLISH
X-WR-CALNAME:JCal Pro Calendar
X-WR-CALDESC:Your online events calendar
X-WR-TIMEZONE:Pacific/Auckland
BEGIN:VEVENT
UID:20120715T100000UTC-e55b67@http://www.wcb.net.nz/
DTSTAMP:20191223T093842Z
DESCRIPTION:Créche aged 0–4<br />Gods Gang aged 5–11<br />JYGs aged 12–14
DTSTART:20120715T100000Z
SUMMARY:Sunday Family Worship Service
URL:http://wcb.net.nz/events/diary/16-general/1-sunday-family-worship-servi
 ce
END:VEVENT
END:VCALENDAR
